BEGIN:VCALENDAR
VERSION:2.0
PRODID:-//Sherwood Elementary School - ECPv6.13.0//NONSGML v1.0//EN
CALSCALE:GREGORIAN
METHOD:PUBLISH
X-ORIGINAL-URL:https://ses.pendleton.k12.or.us
X-WR-CALDESC:Events for Sherwood Elementary School
REFRESH-INTERVAL;VALUE=DURATION:PT1H
X-Robots-Tag:noindex
X-PUBLISHED-TTL:PT1H
BEGIN:VTIMEZONE
TZID:America/Los_Angeles
BEGIN:DAYLIGHT
TZOFFSETFROM:-0800
TZOFFSETTO:-0700
TZNAME:PDT
DTSTART:20230312T100000
END:DAYLIGHT
BEGIN:STANDARD
TZOFFSETFROM:-0700
TZOFFSETTO:-0800
TZNAME:PST
DTSTART:20231105T090000
END:STANDARD
END:VTIMEZONE
BEGIN:VEVENT
DTSTART;TZID=America/Los_Angeles:20230531T084500
DTEND;TZID=America/Los_Angeles:20230531T100000
DTSTAMP:20260419T150657
CREATED:20230517T132211Z
LAST-MODIFIED:20230531T152000Z
UID:10000700-1685522700-1685527200@ses.pendleton.k12.or.us
SUMMARY:PHS Year End Assembly
DESCRIPTION:PHS Seniors end-of-year assembly in Warberg Court at 8:45
URL:https://ses.pendleton.k12.or.us/event/phs-year-end-assembly/
CATEGORIES:Pendleton High School
END:VEVENT
BEGIN:VEVENT
DTSTART;TZID=America/Los_Angeles:20230531T190000
DTEND;TZID=America/Los_Angeles:20230531T200000
DTSTAMP:20260419T150657
CREATED:20230517T132211Z
LAST-MODIFIED:20230531T152000Z
UID:10000697-1685559600-1685563200@ses.pendleton.k12.or.us
SUMMARY:Scholarship Night
DESCRIPTION:PHS Scholarship Night in Auditorium at 7
URL:https://ses.pendleton.k12.or.us/event/scholarship-night/
CATEGORIES:Pendleton High School
END:VEVENT
BEGIN:VEVENT
DTSTART;TZID=America/Los_Angeles:20230601T190000
DTEND;TZID=America/Los_Angeles:20230601T200000
DTSTAMP:20260419T150657
CREATED:20230517T132212Z
LAST-MODIFIED:20230601T152121Z
UID:10000588-1685646000-1685649600@ses.pendleton.k12.or.us
SUMMARY:Baccalaureate
DESCRIPTION:PHS Baccalaureate in Auditorium at 7 pm
URL:https://ses.pendleton.k12.or.us/event/baccalaureate-4/
CATEGORIES:Pendleton High School
END:VEVENT
END:VCALENDAR