BEGIN:VCALENDAR
VERSION:2.0
PRODID:-//Sherwood Elementary School - ECPv6.13.0//NONSGML v1.0//EN
CALSCALE:GREGORIAN
METHOD:PUBLISH
X-ORIGINAL-URL:https://ses.pendleton.k12.or.us
X-WR-CALDESC:Events for Sherwood Elementary School
REFRESH-INTERVAL;VALUE=DURATION:PT1H
X-Robots-Tag:noindex
X-PUBLISHED-TTL:PT1H
BEGIN:VTIMEZONE
TZID:America/Los_Angeles
BEGIN:DAYLIGHT
TZOFFSETFROM:-0800
TZOFFSETTO:-0700
TZNAME:PDT
DTSTART:20200308T100000
END:DAYLIGHT
BEGIN:STANDARD
TZOFFSETFROM:-0700
TZOFFSETTO:-0800
TZNAME:PST
DTSTART:20201101T090000
END:STANDARD
END:VTIMEZONE
BEGIN:VEVENT
DTSTART;TZID=America/Los_Angeles:20200604T123000
DTEND;TZID=America/Los_Angeles:20200604T143000
DTSTAMP:20260424T205119
CREATED:20200528T204415Z
LAST-MODIFIED:20200528T205734Z
UID:10000434-1591273800-1591281000@ses.pendleton.k12.or.us
SUMMARY:End of the Year Parade
DESCRIPTION:June 4 12:30-2:30  Drive Through Parade
URL:https://ses.pendleton.k12.or.us/event/parade/
CATEGORIES:Sherwood Elementary School
END:VEVENT
END:VCALENDAR