BEGIN:VCALENDAR
VERSION:2.0
PRODID:-//Sherwood Elementary School - ECPv6.13.0//NONSGML v1.0//EN
CALSCALE:GREGORIAN
METHOD:PUBLISH
X-WR-CALNAME:Sherwood Elementary School
X-ORIGINAL-URL:https://ses.pendleton.k12.or.us
X-WR-CALDESC:Events for Sherwood Elementary School
REFRESH-INTERVAL;VALUE=DURATION:PT1H
X-Robots-Tag:noindex
X-PUBLISHED-TTL:PT1H
BEGIN:VTIMEZONE
TZID:America/Los_Angeles
BEGIN:DAYLIGHT
TZOFFSETFROM:-0800
TZOFFSETTO:-0700
TZNAME:PDT
DTSTART:20210314T100000
END:DAYLIGHT
BEGIN:STANDARD
TZOFFSETFROM:-0700
TZOFFSETTO:-0800
TZNAME:PST
DTSTART:20211107T090000
END:STANDARD
END:VTIMEZONE
BEGIN:VEVENT
DTSTART;TZID=America/Los_Angeles:20211210T080000
DTEND;TZID=America/Los_Angeles:20211210T170000
DTSTAMP:20260423T162133
CREATED:20211210T195151Z
LAST-MODIFIED:20211213T162420Z
UID:10000553-1639123200-1639155600@ses.pendleton.k12.or.us
SUMMARY:Inclement Weather
DESCRIPTION:Winter weather is coming! Please review the district’s Snow Day policy and the best way to keep informed here: https://pendleton.k12.or.us/
URL:https://ses.pendleton.k12.or.us/event/inclement-weather/
CATEGORIES:Sherwood Elementary School
ATTACH;FMTTYPE=image/jpeg:https://ses.pendleton.k12.or.us/wp-content/uploads/sites/5/2021/12/snowy-scene-with-a-school-bus-1.jpg
END:VEVENT
END:VCALENDAR