BEGIN:VCALENDAR
VERSION:2.0
PRODID:-//Sherwood Elementary School - ECPv6.13.0//NONSGML v1.0//EN
CALSCALE:GREGORIAN
METHOD:PUBLISH
X-ORIGINAL-URL:https://ses.pendleton.k12.or.us
X-WR-CALDESC:Events for Sherwood Elementary School
REFRESH-INTERVAL;VALUE=DURATION:PT1H
X-Robots-Tag:noindex
X-PUBLISHED-TTL:PT1H
BEGIN:VTIMEZONE
TZID:America/Los_Angeles
BEGIN:DAYLIGHT
TZOFFSETFROM:-0800
TZOFFSETTO:-0700
TZNAME:PDT
DTSTART:20230312T100000
END:DAYLIGHT
BEGIN:STANDARD
TZOFFSETFROM:-0700
TZOFFSETTO:-0800
TZNAME:PST
DTSTART:20231105T090000
END:STANDARD
END:VTIMEZONE
BEGIN:VEVENT
DTSTART;TZID=America/Los_Angeles:20231108T080000
DTEND;TZID=America/Los_Angeles:20231108T090000
DTSTAMP:20260422T034731
CREATED:20231018T214206Z
LAST-MODIFIED:20231018T214206Z
UID:10000846-1699430400-1699434000@ses.pendleton.k12.or.us
SUMMARY:Picture Retakes
DESCRIPTION:
URL:https://ses.pendleton.k12.or.us/event/picture-retakes/
CATEGORIES:Sherwood Elementary School
END:VEVENT
END:VCALENDAR