BEGIN:VCALENDAR
VERSION:2.0
PRODID:-//Sherwood Elementary School - ECPv6.13.0//NONSGML v1.0//EN
CALSCALE:GREGORIAN
METHOD:PUBLISH
X-WR-CALNAME:Sherwood Elementary School
X-ORIGINAL-URL:https://ses.pendleton.k12.or.us
X-WR-CALDESC:Events for Sherwood Elementary School
REFRESH-INTERVAL;VALUE=DURATION:PT1H
X-Robots-Tag:noindex
X-PUBLISHED-TTL:PT1H
BEGIN:VTIMEZONE
TZID:America/Los_Angeles
BEGIN:DAYLIGHT
TZOFFSETFROM:-0800
TZOFFSETTO:-0700
TZNAME:PDT
DTSTART:20240310T100000
END:DAYLIGHT
BEGIN:STANDARD
TZOFFSETFROM:-0700
TZOFFSETTO:-0800
TZNAME:PST
DTSTART:20241103T090000
END:STANDARD
END:VTIMEZONE
BEGIN:VEVENT
DTSTART;TZID=America/Los_Angeles:20240312T190000
DTEND;TZID=America/Los_Angeles:20240312T200000
DTSTAMP:20260419T174652
CREATED:20240308T225025Z
LAST-MODIFIED:20240312T231941Z
UID:10000873-1710270000-1710273600@ses.pendleton.k12.or.us
SUMMARY:Choir Concert
DESCRIPTION:Sunridge Middle School is having their Choir Concert at 7:00 pm
URL:https://ses.pendleton.k12.or.us/event/choir-concert-2/
CATEGORIES:Sunridge Middle School
END:VEVENT
BEGIN:VEVENT
DTSTART;TZID=America/Los_Angeles:20240314T190000
DTEND;TZID=America/Los_Angeles:20240314T200000
DTSTAMP:20260419T174652
CREATED:20240313T232028Z
LAST-MODIFIED:20240314T233451Z
UID:10000878-1710442800-1710446400@ses.pendleton.k12.or.us
SUMMARY:Band/Orchestra Concert
DESCRIPTION:SMS Band & Orchestra concert for 7th and 8th grade students at 7:00 pm
URL:https://ses.pendleton.k12.or.us/event/band-orchestra-concert/
CATEGORIES:Sunridge Middle School
END:VEVENT
BEGIN:VEVENT
DTSTART;TZID=America/Los_Angeles:20240315T100000
DTEND;TZID=America/Los_Angeles:20240315T110000
DTSTAMP:20260419T174652
CREATED:20240313T232028Z
LAST-MODIFIED:20240315T233617Z
UID:10000879-1710496800-1710500400@ses.pendleton.k12.or.us
SUMMARY:Choir Concert
DESCRIPTION:SMS 6th grade Choir Concert at 10:00 am
URL:https://ses.pendleton.k12.or.us/event/choir-concert-3/
CATEGORIES:Sunridge Middle School
END:VEVENT
BEGIN:VEVENT
DTSTART;TZID=America/Los_Angeles:20240319T190000
DTEND;TZID=America/Los_Angeles:20240319T200000
DTSTAMP:20260419T174652
CREATED:20240318T235315Z
LAST-MODIFIED:20240319T235010Z
UID:10000921-1710874800-1710878400@ses.pendleton.k12.or.us
SUMMARY:School Play
DESCRIPTION:Students at Sunridge Middle School will be presenting the play “The Raven & the Rue Morgue” on March 19-21\, 2024 at 7:00 p.m.
URL:https://ses.pendleton.k12.or.us/event/school-play/
CATEGORIES:Sunridge Middle School
END:VEVENT
BEGIN:VEVENT
DTSTART;TZID=America/Los_Angeles:20240320T190000
DTEND;TZID=America/Los_Angeles:20240320T200000
DTSTAMP:20260419T174652
CREATED:20240318T235315Z
LAST-MODIFIED:20240320T234950Z
UID:10000922-1710961200-1710964800@ses.pendleton.k12.or.us
SUMMARY:School Play
DESCRIPTION:Students at Sunridge Middle School will be presenting the play “The Raven & the Rue Morgue” on March 19-21\, 2024 at 7:00 p.m.
URL:https://ses.pendleton.k12.or.us/event/school-play-2/
CATEGORIES:Sunridge Middle School
END:VEVENT
BEGIN:VEVENT
DTSTART;TZID=America/Los_Angeles:20240321T190000
DTEND;TZID=America/Los_Angeles:20240321T200000
DTSTAMP:20260419T174652
CREATED:20240318T235315Z
LAST-MODIFIED:20240321T235003Z
UID:10000923-1711047600-1711051200@ses.pendleton.k12.or.us
SUMMARY:School Play
DESCRIPTION:Students at Sunridge Middle School will be presenting the play “The Raven & the Rue Morgue” on March 19-21\, 2024 at 7:00 p.m.
URL:https://ses.pendleton.k12.or.us/event/school-play-3/
CATEGORIES:Sunridge Middle School
END:VEVENT
END:VCALENDAR